BEGIN:VCALENDAR
VERSION:2.0
PRODID:-//Britepaths - ECPv6.15.20//NONSGML v1.0//EN
CALSCALE:GREGORIAN
METHOD:PUBLISH
X-WR-CALNAME:Britepaths
X-ORIGINAL-URL:https://britepaths.org
X-WR-CALDESC:Events for Britepaths
REFRESH-INTERVAL;VALUE=DURATION:PT1H
X-Robots-Tag:noindex
X-PUBLISHED-TTL:PT1H
BEGIN:VTIMEZONE
TZID:America/New_York
BEGIN:DAYLIGHT
TZOFFSETFROM:-0500
TZOFFSETTO:-0400
TZNAME:EDT
DTSTART:20220313T070000
END:DAYLIGHT
BEGIN:STANDARD
TZOFFSETFROM:-0400
TZOFFSETTO:-0500
TZNAME:EST
DTSTART:20221106T060000
END:STANDARD
BEGIN:DAYLIGHT
TZOFFSETFROM:-0500
TZOFFSETTO:-0400
TZNAME:EDT
DTSTART:20230312T070000
END:DAYLIGHT
BEGIN:STANDARD
TZOFFSETFROM:-0400
TZOFFSETTO:-0500
TZNAME:EST
DTSTART:20231105T060000
END:STANDARD
BEGIN:DAYLIGHT
TZOFFSETFROM:-0500
TZOFFSETTO:-0400
TZNAME:EDT
DTSTART:20240310T070000
END:DAYLIGHT
BEGIN:STANDARD
TZOFFSETFROM:-0400
TZOFFSETTO:-0500
TZNAME:EST
DTSTART:20241103T060000
END:STANDARD
END:VTIMEZONE
BEGIN:VEVENT
DTSTART;TZID=America/New_York:20231128T170000
DTEND;TZID=America/New_York:20231128T190000
DTSTAMP:20260419T084846
CREATED:20231115T235623Z
LAST-MODIFIED:20231124T214648Z
UID:7509-1701190800-1701198000@britepaths.org
SUMMARY:Giving TUNESDay at Mackenzie's Tunes & Tonic
DESCRIPTION:Celebrate with Britepaths\, Mackenzie’s Tunes & Tonics and Fairfax City Economic Development Authority at Giving TUNESDay! The #GivingTuesday launch of our new career training offering\, Pathfinder Kitchen. Read About Our Neighborhood Connected Grant \nGiving TUNESDay\nTuesday\, November 28\n5-7 pm\nMackenzie’s Tunes & Tonics\n3950 University Drive\, Suite 210\nFairfax\, VA 22030 \nEnjoy live music performed by Nashville recording artist and Washington Area Music Association award-winner Scott Kurt\, joined by Sam Whetzel\, drink specials\, and a 50/50 raffle! \nDonations welcome to help Britepaths provide stability and personal empowerment services to Northern Virginia residents. Can’t make it to the event but still want to help? Donate \nPlease Share! \n\nJoin Our Facebook Event\nJoin Our LinkedIn Event\n\n \n 
URL:https://britepaths.org/event/giving-tunesday/
LOCATION:Mackenzie’s Tunes & Tonics\, 3950 University Drive\, Suite 210\, Fairfax\, VA\, 22030\, United States
CATEGORIES:Event,Featured
ATTACH;FMTTYPE=image/png:https://britepaths.org/wp-content/uploads/2023/11/GT23-GivingTUNESDayEvent.png
END:VEVENT
END:VCALENDAR